BEGIN:VCALENDAR
VERSION:2.0
PRODID:-//Deutsche Bibliothek Helsinki - ECPv6.15.18//NONSGML v1.0//EN
CALSCALE:GREGORIAN
METHOD:PUBLISH
X-ORIGINAL-URL:https://deutschebibliothekhelsinki.net
X-WR-CALDESC:Veranstaltungen für Deutsche Bibliothek Helsinki
REFRESH-INTERVAL;VALUE=DURATION:PT1H
X-Robots-Tag:noindex
X-PUBLISHED-TTL:PT1H
BEGIN:VTIMEZONE
TZID:Europe/Helsinki
BEGIN:DAYLIGHT
TZOFFSETFROM:+0200
TZOFFSETTO:+0300
TZNAME:EEST
DTSTART:20250330T010000
END:DAYLIGHT
BEGIN:STANDARD
TZOFFSETFROM:+0300
TZOFFSETTO:+0200
TZNAME:EET
DTSTART:20251026T010000
END:STANDARD
BEGIN:DAYLIGHT
TZOFFSETFROM:+0200
TZOFFSETTO:+0300
TZNAME:EEST
DTSTART:20260329T010000
END:DAYLIGHT
BEGIN:STANDARD
TZOFFSETFROM:+0300
TZOFFSETTO:+0200
TZNAME:EET
DTSTART:20261025T010000
END:STANDARD
BEGIN:DAYLIGHT
TZOFFSETFROM:+0200
TZOFFSETTO:+0300
TZNAME:EEST
DTSTART:20270328T010000
END:DAYLIGHT
BEGIN:STANDARD
TZOFFSETFROM:+0300
TZOFFSETTO:+0200
TZNAME:EET
DTSTART:20271031T010000
END:STANDARD
END:VTIMEZONE
BEGIN:VEVENT
DTSTART;TZID=Europe/Helsinki:20260506T170000
DTEND;TZID=Europe/Helsinki:20260506T190000
DTSTAMP:20260422T224228
CREATED:20260123T094640Z
LAST-MODIFIED:20260123T143150Z
UID:2833-1778086800-1778094000@deutschebibliothekhelsinki.net
SUMMARY:Achim Bogdahn  - Er liest aus seinem Buch "Unter den Wolken. Meine Reise auf die höchsten Berge aller deutschen Bundesländer"
DESCRIPTION:Er liest aus seinem Buch “Unter den Wolken. Meine Reise auf die höchsten Berge aller deutschen Bundesländer”. Bei der Besteigung dieser Berge hat er jeweils einen männlichen oder weiblichen Prominenten aus dem jeweiligen Bundesland mitgenommen.
URL:https://deutschebibliothekhelsinki.net/veranstaltungen/lesung-mit-achim-bogdahn/
END:VEVENT
BEGIN:VEVENT
DTSTART;TZID=Europe/Helsinki:20260507T180000
DTEND;TZID=Europe/Helsinki:20260507T193000
DTSTAMP:20260422T224228
CREATED:20260326T171747Z
LAST-MODIFIED:20260326T171952Z
UID:2918-1778176800-1778182200@deutschebibliothekhelsinki.net
SUMMARY:Maria Scholl: Wir leben Vielfalt #IamRemarkable Workshop - Refresher
DESCRIPTION:
URL:https://deutschebibliothekhelsinki.net/veranstaltungen/maria-scholl-iamremarkable-workshop-refresher/
END:VEVENT
BEGIN:VEVENT
DTSTART;TZID=Europe/Helsinki:20260513T170000
DTEND;TZID=Europe/Helsinki:20260513T190000
DTSTAMP:20260422T224228
CREATED:20260113T113914Z
LAST-MODIFIED:20260113T113914Z
UID:2819-1778691600-1778698800@deutschebibliothekhelsinki.net
SUMMARY:Feierabend in der Deutschen Bibliothek
DESCRIPTION:Am 13.5.2026 von 17 bis 19 Uhr findet wieder der Feierabend bei uns statt! \nWir bitten um Anmeldung bis zum 10. Mai 2026 an info@deutschebibliothek.fi \nIst dein Deutsch etwas eingerostet? Willst du in ungezwungener Atmosphäre Deutsch reden? Oder einfach neue Leute kennenlernen\, die sich ebenfalls für die deutsche Sprache und Kultur interessieren? Dann ist Feierabend genau das Richtige für dich! \nEs gibt zu jeder Sitzung einen kurzen Impuls\, um dich zu inspirieren und etwas mehr über deutsche Sprache\, Literatur oder Kultur zu erfahren. \n  \nGefördert wird der Feierabend freundlicherweise von der Otto A. Malm Stiftung.
URL:https://deutschebibliothekhelsinki.net/veranstaltungen/feierabend-in-der-deutschen-bibliothek-10/
END:VEVENT
BEGIN:VEVENT
DTSTART;TZID=Europe/Helsinki:20260519T180000
DTEND;TZID=Europe/Helsinki:20260519T200000
DTSTAMP:20260422T224228
CREATED:20260303T061322Z
LAST-MODIFIED:20260422T081123Z
UID:2879-1779213600-1779220800@deutschebibliothekhelsinki.net
SUMMARY:Dorothea Gruenzweig - Poesie und Musik
DESCRIPTION:Erfasst von dieser Nachtverwandlung           \n                                                                Ein Sprach-Gesang \nDorothea Grünzweig liest aus ihrem soeben im Göttinger Wallstein Verlag erschienenen neuen \nLyrikband und gibt Werkstatteinblicke. Die Gedichte schweben zwischen Licht und Nacht\, \nzwischen überwältigender Schönheit und bedrohlicher Gefährdung von Natur und vielfältigem \nLeben. Bilderreiche Poesie geht über in die suggestiven Improvisationen und Kompositionen \nder Geigerin Laura Kokko\, die durch elektronische Looptechnik Stimmen übereinanderlegt \nund z.B. Laute der Vogelwelt zum Tönen bringt\, eine Bach-Arie oder die Kalevala-Melodie aufruft. \nProf. Christoph Parry wird in seinem Gruβwort zu Beginn des Abends zur Lesung hinführen. \n  \nGrünzweig und Kokko lernten sich beim Gastprogramm der Buchmesse 2014 ‚Finnland Cool‘ \nkennen. Seitdem ist eine langjährige\, fruchtbare Zusammenarbeit entstanden mit zahlreichen \nVeranstaltungen in Deutschland und Finnland. \nDas Buch kann anschlieβend zum ermäβigten Premiere-Preis erstanden werden.
URL:https://deutschebibliothekhelsinki.net/veranstaltungen/dorothea-gruenzweig-thema-folgt/
END:VEVENT
BEGIN:VEVENT
DTSTART;TZID=Europe/Helsinki:20260520T173000
DTEND;TZID=Europe/Helsinki:20260520T193000
DTSTAMP:20260422T224228
CREATED:20260326T171335Z
LAST-MODIFIED:20260326T171511Z
UID:2915-1779298200-1779305400@deutschebibliothekhelsinki.net
SUMMARY:Workshop Maria Scholl: Wir leben Vielfalt.  #IAmRemarkable Workshop
DESCRIPTION:Wir leben Vielfalt. \nAm 20. Mai 2026 von 17:30–19:30 Uhr findet in der Deutschen Bibliothek Helsinki ein #IAmRemarkable Workshop statt. \nÜber eigene Stärken und Erfolge zu sprechen empfinden viele von uns als herausfordernd. \nWie nehmen wir uns selbst wahr\, wenn wir positiv über uns sprechen? \nWie wirkt es auf andere? \nDer Workshop bietet einen Raum zur Reflexion über Selbstwahrnehmung\, Sichtbarkeit und die damit zusammenhängenden gesellschaftlichen Muster. \nGrundlage ist das globale #IAmRemarkable-Programm der Nicht-Regierungsorganisation rmrkblty.org\, das Menschen darin bestärkt\, ihre eigenen Leistungen anzuerkennen und sichtbar zu machen. \nDer Workshop wird auf Deutsch und Englisch durchgeführt. \nIn den interaktiven Teilen ist Kommunikation auf Deutsch\, Englisch\, Finnisch oder Schwedisch möglich. \nDer Workshop wird von Maria Scholl und Marjukka Heinonen geleitet. \nAnmeldung: \nDie Teilnahmezahl ist begrenzt. \nBitte melden Sie sich per E-Mail an: info@deutschebibliothek.fi \n———- \nPracticing diversity. \nOn 20. Mai 2026\, from 5:30–7:30 pm\, the German Library Helsinki hosts an #IAmRemarkable workshop. \nFor many of us\, talking openly about our own strengths and achievements feels challenging. \nHow do we perceive ourselves when we speak positively about our work and accomplishments? \nHow does it come across to others? \nThe workshop offers a space to reflect on self-perception\, visibility\, and the social patterns connected to them. \nIt is based on the global #IAmRemarkable programme by the non-governmental organisation rmrkblty.org\, which empowers people to recognise and articulate their achievements. \nThe workshop is conducted in German and English. \nDuring the interactive parts\, participants may communicate in German\, English\, Finnish\, or Swedish. \nThe workshop is facilitated by Maria Scholl and Marjukka Heinonen. \nRegistration: \nParticipation is limited. \nPlease register via email: info@deutschebibliothek.fi
URL:https://deutschebibliothekhelsinki.net/veranstaltungen/workshop-maria-scholl-wir-leben-vielfalt-iamremarkable-workshop/
END:VEVENT
END:VCALENDAR