BEGIN:VCALENDAR
VERSION:2.0
PRODID:-//Deutsche Bibliothek Helsinki - ECPv6.15.18//NONSGML v1.0//EN
CALSCALE:GREGORIAN
METHOD:PUBLISH
X-ORIGINAL-URL:https://deutschebibliothekhelsinki.net
X-WR-CALDESC:Veranstaltungen für Deutsche Bibliothek Helsinki
REFRESH-INTERVAL;VALUE=DURATION:PT1H
X-Robots-Tag:noindex
X-PUBLISHED-TTL:PT1H
BEGIN:VTIMEZONE
TZID:Europe/Helsinki
BEGIN:DAYLIGHT
TZOFFSETFROM:+0200
TZOFFSETTO:+0300
TZNAME:EEST
DTSTART:20250330T010000
END:DAYLIGHT
BEGIN:STANDARD
TZOFFSETFROM:+0300
TZOFFSETTO:+0200
TZNAME:EET
DTSTART:20251026T010000
END:STANDARD
BEGIN:DAYLIGHT
TZOFFSETFROM:+0200
TZOFFSETTO:+0300
TZNAME:EEST
DTSTART:20260329T010000
END:DAYLIGHT
BEGIN:STANDARD
TZOFFSETFROM:+0300
TZOFFSETTO:+0200
TZNAME:EET
DTSTART:20261025T010000
END:STANDARD
BEGIN:DAYLIGHT
TZOFFSETFROM:+0200
TZOFFSETTO:+0300
TZNAME:EEST
DTSTART:20270328T010000
END:DAYLIGHT
BEGIN:STANDARD
TZOFFSETFROM:+0300
TZOFFSETTO:+0200
TZNAME:EET
DTSTART:20271031T010000
END:STANDARD
END:VTIMEZONE
BEGIN:VEVENT
DTSTART;TZID=Europe/Helsinki:20260205T170000
DTEND;TZID=Europe/Helsinki:20260205T190000
DTSTAMP:20260423T000556
CREATED:20251215T180756Z
LAST-MODIFIED:20251215T180923Z
UID:2806-1770310800-1770318000@deutschebibliothekhelsinki.net
SUMMARY:Lesekreis des Finnisch - Österreichischen Vereins - mit dem Schwerpunkt auf den Autor Elias Canetti
DESCRIPTION:
URL:https://deutschebibliothekhelsinki.net/veranstaltungen/lesekreis-des-finnisch-oesterreichischen-vereins-thema-diesmal-elias-canetti/
END:VEVENT
BEGIN:VEVENT
DTSTART;TZID=Europe/Helsinki:20260210T180000
DTEND;TZID=Europe/Helsinki:20260210T200000
DTSTAMP:20260423T000556
CREATED:20260119T151804Z
LAST-MODIFIED:20260202T124020Z
UID:2828-1770746400-1770753600@deutschebibliothekhelsinki.net
SUMMARY:Katharina Kunter: "Es gibt keinen Gott" - über das schwierige Verhältnis von Kirche und Staat im Kommunismus.
DESCRIPTION:Professor Katharina Kunter: „Es gibt keinen Gott“ – über das \nschwierige Verhältnis von Kirche und Staat im Kommunismus. \nAls der sowjetische Kosmonaut Jurij Gagarin 1961 nach 108 Minuten im Weltall auf\ndie Erde zurückkehrte\, soll er gesagt haben\, einen Gott habe er dort nicht gesehen.\nIn der kommunistischen Ideologie war die Religion\, nach Karl Marx\, nur Opium für\ndas Volk. Dennoch mussten sich die kommunistischen Systeme des 20.\nJahrhunderts darauf einstellen\, dass viele Menschen an ihrem Glauben festhielten.\nDas führte zu administrativen und gesellschaftlichen Einschränkungen des religiösen\nLebens und zu Versuchen\, auch indirekt Einfluss zu nehmen\, zum Beispiel durch\ngeheimdienstliche Unterwanderung.\nDer Vortrag beleuchtet\, wie Kirche und Christentum unter den ideologischen und\npolitischen Zwängen der kommunistischen Herrschaft zu einem „Ausnahmefall“\nwurden – reduziert auf einen kleinen „Flickenteppich“ ohne staatliche Anerkennung.\nIm Einzelnen werden folgende Themen angesprochen: –\nIdeelle und historische Voraussetzungen – –\nTrennung von Kirche und Staat in der kommunistischen Religionspolitik\nKirchliche Existenz als nicht vorgesehener Ausnahmefall\nProf. Dr. Katharina Kunter lehrt Kirchliche Zeitgeschichte an der Theologischen\nFakultät der Universität Helsinki.
URL:https://deutschebibliothekhelsinki.net/veranstaltungen/katharina-kunter-es-gibt-keinen-gott-ueber-das-schwierige-verhaeltnis-von-kirche-und-staat-im-kommunismus/
END:VEVENT
BEGIN:VEVENT
DTSTART;TZID=Europe/Helsinki:20260211T170000
DTEND;TZID=Europe/Helsinki:20260211T190000
DTSTAMP:20260423T000556
CREATED:20260113T113506Z
LAST-MODIFIED:20260113T113814Z
UID:2811-1770829200-1770836400@deutschebibliothekhelsinki.net
SUMMARY:Feierabend in der Deutschen Bibliothek
DESCRIPTION:Am 11.2.2026 von 17 bis 19 Uhr findet wieder der Feierabend bei uns statt! \nWir bitten um Anmeldung bis zum 10. Februar 2026 an info@deutschebibliothek.fi \nIst dein Deutsch etwas eingerostet? Willst du in ungezwungener Atmosphäre Deutsch reden? Oder einfach neue Leute kennenlernen\, die sich ebenfalls für die deutsche Sprache und Kultur interessieren? Dann ist Feierabend genau das Richtige für dich! \nEs gibt zu jeder Sitzung einen kurzen Impuls\, um dich zu inspirieren und etwas mehr über deutsche Sprache\, Literatur oder Kultur zu erfahren. \n  \nGefördert wird der Feierabend freundlicherweise von der Otto A. Malm Stiftung.
URL:https://deutschebibliothekhelsinki.net/veranstaltungen/feierabend-in-der-deutschen-bibliothek-5/
END:VEVENT
BEGIN:VEVENT
DTSTART;TZID=Europe/Helsinki:20260212T173000
DTEND;TZID=Europe/Helsinki:20260212T193000
DTSTAMP:20260423T000556
CREATED:20260128T155828Z
LAST-MODIFIED:20260202T063344Z
UID:2840-1770917400-1770924600@deutschebibliothekhelsinki.net
SUMMARY:Maria Scholl - Wir leben Vielfalt.  #IAmRemarkable Workshop
DESCRIPTION:Wir leben Vielfalt. \nAm 12. Februar 2026 von 17:30–19:30 Uhr findet in der Deutschen Bibliothek Helsinki ein #IAmRemarkable Workshop statt. \nÜber eigene Stärken und Erfolge zu sprechen empfinden viele von uns als herausfordernd. \nWie nehmen wir uns selbst wahr\, wenn wir positiv über uns sprechen? \nWie wirkt es auf andere? \nDer Workshop bietet einen Raum zur Reflexion über Selbstwahrnehmung\, Sichtbarkeit und die damit zusammenhängenden gesellschaftlichen Muster. \nGrundlage ist das globale #IAmRemarkable-Programm der Nicht-Regierungsorganisation rmrkblty.org\, das Menschen darin bestärkt\, ihre eigenen Leistungen anzuerkennen und sichtbar zu machen. \nDer Workshop wird auf Deutsch und Englisch durchgeführt. \nIn den interaktiven Teilen ist Kommunikation auf Deutsch\, Englisch\, Finnisch oder Schwedisch möglich. \nDer Workshop wird von Maria Scholl und Marjukka Heinonen geleitet. \nAnmeldung: \nDie Teilnahmezahl ist begrenzt. \nBitte melden Sie sich per E-Mail an: info@deutschebibliothek.fi \n———- \nPracticing diversity. \nOn 12 February 2026\, from 5:30–7:30 pm\, the German Library Helsinki hosts an #IAmRemarkable workshop. \nFor many of us\, talking openly about our own strengths and achievements feels challenging. \nHow do we perceive ourselves when we speak positively about our work and accomplishments? \nHow does it come across to others? \nThe workshop offers a space to reflect on self-perception\, visibility\, and the social patterns connected to them. \nIt is based on the global #IAmRemarkable programme by the non-governmental organisation rmrkblty.org\, which empowers people to recognise and articulate their achievements. \nThe workshop is conducted in German and English. \nDuring the interactive parts\, participants may communicate in German\, English\, Finnish\, or Swedish. \nThe workshop is facilitated by Maria Scholl and Marjukka Heinonen. \nRegistration: \nParticipation is limited. \nPlease register via email: info@deutschebibliothek.fi
URL:https://deutschebibliothekhelsinki.net/veranstaltungen/maria-scholl-iar-workshop-naeheres-folgt/
END:VEVENT
BEGIN:VEVENT
DTSTART;TZID=Europe/Helsinki:20260224T180000
DTEND;TZID=Europe/Helsinki:20260224T200000
DTSTAMP:20260423T000556
CREATED:20260119T152250Z
LAST-MODIFIED:20260216T161730Z
UID:2830-1771956000-1771963200@deutschebibliothekhelsinki.net
SUMMARY:Dr. Roland Löffler: Wie rechter und linker Populismus in den ostdeutschen Bundesländern die Demokratie herausfordert
DESCRIPTION:Dr. Roland Löffler ist Leiter der Landeszentrale für Politische Bildung in Sachsen. \nDer Rechtspopulismus ist in ganz Europa die aufwühlende politische Strömung unserer Tage. In Deutschland liegt das Zentrum dieser Bewegung in Ostdeutschland\, was sich am Aufstieg der AfD ablesen lässt. In Meinungsumfragen vor den Landtagswahlen in Sachsen-Anhalt und Mecklenburg-Vorpommern im Herbst schneidet die AfD bislang am besten ab. Das könnte die Regierungsbildung erschweren. Bei Wahlen 2024 war das linkspopulistische „Bündnisses Sarah Wagenknecht für Vernunft und Gerechtigkeit“ (BSW) auf Anhieb erfolgreich. \nWarum haben diese Bewegungen so starken Zulauf? Welche Ziele verfolgen sie\, und wann kippt Populismus in Extremismus um? Wie sind diese ostdeutschen Entwicklungen im europäischen und deutsch-finnischen Vergleich einzuordnen? \nDas erklärt uns Dr. Roland Löffler\, Direktor der Sächsischen Landeszentrale für politische Bildung in Dresden und Mitglied des Kuratoriums der Deutsch-Finnischen Gesellschaft.
URL:https://deutschebibliothekhelsinki.net/veranstaltungen/dr-roland-loeffler-der-leiter-der-landeszentrale-fuer-politische-bildung-in-sachsen-thema-folgt/
END:VEVENT
BEGIN:VEVENT
DTSTART;TZID=Europe/Helsinki:20260228T140000
DTEND;TZID=Europe/Helsinki:20260228T170000
DTSTAMP:20260423T000556
CREATED:20260214T090834Z
LAST-MODIFIED:20260218T155043Z
UID:2857-1772287200-1772298000@deutschebibliothekhelsinki.net
SUMMARY:Einweihung der neuen Kinderbuchecke
DESCRIPTION:Wir haben umgeräumt und möchten am Samstag\, den 28.2.\, unsere neue Kinderbuchecke einweihen! \nDafür wird es eine Lesestunde geben\, warme und kalte Getränke und ein Bibliotheksbingo. Wir freuen uns auf zahlreiche kleine und grosse Besucher*innen!
URL:https://deutschebibliothekhelsinki.net/veranstaltungen/einweihung-der-neuen-kinderbuchecke/
END:VEVENT
END:VCALENDAR